BEGIN:VCALENDAR
VERSION:2.0
PRODID:-//Tukios.com/
BEGIN:VEVENT
UID:48424bbc-81d9-4c79-89d2-f77257abd9e0@www.chancellorfuneralhome.com
DTSTAMP:20260421T192542Z
DTSTART:20260423
SUMMARY:Burial
DESCRIPTION:
URL:https://www.chancellorfuneralhome.com/obituaries/kate-harper
LOCATION: 2576 US 49  Florence MS 39073
GEO:32.1698812;-90.1307431
END:VEVENT
END:VCALENDAR