BEGIN:VCALENDAR
VERSION:2.0
PRODID:-//Tukios.com/
BEGIN:VEVENT
UID:0046590f-fa93-414d-a339-e89e7c5dfd9c@www.chancellorfuneralhome.com
DTSTAMP:20260421T192712Z
DTSTART:20260423T150000Z
DTEND:20260423T160000Z
SUMMARY:Funeral Service
DESCRIPTION:
URL:https://www.chancellorfuneralhome.com/obituaries/kate-harper
LOCATION: 2576 US 49  Florence MS 39073
GEO:32.1698812;-90.1307431
END:VEVENT
END:VCALENDAR