BEGIN:VCALENDAR
VERSION:2.0
PRODID:-//Tukios.com/
BEGIN:VEVENT
UID:d02ea8aa-d1b3-4d52-ae45-064753394331@www.chancellorfuneralhome.com
DTSTAMP:20260421T192452Z
DTSTART:20260423T140000Z
DTEND:20260423T150000Z
SUMMARY:Visitation
DESCRIPTION:
URL:https://www.chancellorfuneralhome.com/obituaries/kate-harper
LOCATION: 2576 US 49  Florence MS 39073
GEO:32.1698812;-90.1307431
END:VEVENT
END:VCALENDAR