BEGIN:VCALENDAR
VERSION:2.0
PRODID:-//Tukios.com/
BEGIN:VEVENT
UID:88f230b1-8979-404b-810b-70d7df62ca6d@www.chancellorfuneralhome.com
DTSTAMP:20260421T193003Z
DTSTART:20260422T220000Z
DTEND:20260423T000000Z
SUMMARY:Visitation
DESCRIPTION:
URL:https://www.chancellorfuneralhome.com/obituaries/kate-harper
LOCATION: 2576 US 49  Florence MS 39073
GEO:32.1698812;-90.1307431
END:VEVENT
END:VCALENDAR