BEGIN:VCALENDAR
VERSION:2.0
PRODID:-//Tukios.com/
BEGIN:VEVENT
UID:0ca03f14-c214-4429-825d-81be99085a9c@www.chancellorfuneralhome.com
DTSTAMP:20260423T003335Z
DTSTART:20260424T160000Z
DTEND:20260424T170000Z
SUMMARY:Funeral Service
DESCRIPTION:
URL:https://www.chancellorfuneralhome.com/obituaries/freddie-jones
LOCATION:First Baptist Church of Terry 209 Raymond St  Terry MS 39170
GEO:32.0982233;-90.2961278
END:VEVENT
END:VCALENDAR