BEGIN:VCALENDAR
VERSION:2.0
PRODID:-//Tukios.com/
BEGIN:VEVENT
UID:cd210b81-d11b-4e39-b470-ef6523245f86@www.chancellorfuneralhome.com
DTSTAMP:20260423T003116Z
DTSTART:20260423T220000Z
DTEND:20260424T000000Z
SUMMARY:Visitation
DESCRIPTION:
URL:https://www.chancellorfuneralhome.com/obituaries/freddie-jones
LOCATION:Chancellor Funeral Home 7225 South Siwell Road  Jackson MS 39272
GEO:32.1908525;-90.2699948
END:VEVENT
END:VCALENDAR