BEGIN:VCALENDAR
VERSION:2.0
PRODID:-//Tukios.com/
BEGIN:VEVENT
UID:7ae6ca99-b021-47bf-ab28-3edf110dd7cd@www.chancellorfuneralhome.com
DTSTAMP:20260423T003109Z
DTSTART:20260423T180000Z
DTEND:20260423T190000Z
SUMMARY:Graveside Service
DESCRIPTION:
URL:https://www.chancellorfuneralhome.com/obituaries/donald-scharf
LOCATION:Lakewood South Memorial Park 6000 Clinton Boulevard  Jackson MS 
	39209
GEO:32.3354054;-90.2868719
END:VEVENT
END:VCALENDAR