BEGIN:VCALENDAR
VERSION:2.0
PRODID:-//Tukios.com/
BEGIN:VEVENT
UID:68cc90a3-d3c7-420d-a73f-1ce1a7bb3552@www.chancellorfuneralhome.com
DTSTAMP:20260422T223323Z
DTSTART:20260425T153000Z
DTEND:20260425T163000Z
SUMMARY:Memorial Service
DESCRIPTION:
URL:https://www.chancellorfuneralhome.com/obituaries/charles-gibson
LOCATION:Hillcrest Baptist Church 5950 Terry Rd  Jackson MS 39272
GEO:32.1725294;-90.2769709
END:VEVENT
END:VCALENDAR