BEGIN:VCALENDAR
VERSION:2.0
PRODID:-//Tukios.com/
BEGIN:VEVENT
UID:ac301b0c-fbdf-4bca-b0bd-82cc45f2af28@www.chancellorfuneralhome.com
DTSTAMP:20260422T223106Z
DTSTART:20260425T143000Z
DTEND:20260425T153000Z
SUMMARY:Visitation
DESCRIPTION:
URL:https://www.chancellorfuneralhome.com/obituaries/charles-gibson
LOCATION:Hillcrest Baptist Church 5950 Terry Rd  Jackson MS 39272
GEO:32.1725294;-90.2769709
END:VEVENT
END:VCALENDAR